BEGIN:VCALENDAR
VERSION:2.0
PRODID:-//Rotary Club Of Grand Rapids - ECPv6.15.20//NONSGML v1.0//EN
CALSCALE:GREGORIAN
METHOD:PUBLISH
X-WR-CALNAME:Rotary Club Of Grand Rapids
X-ORIGINAL-URL:https://grrotary.org
X-WR-CALDESC:Events for Rotary Club Of Grand Rapids
REFRESH-INTERVAL;VALUE=DURATION:PT1H
X-Robots-Tag:noindex
X-PUBLISHED-TTL:PT1H
BEGIN:VTIMEZONE
TZID:America/Detroit
BEGIN:DAYLIGHT
TZOFFSETFROM:-0500
TZOFFSETTO:-0400
TZNAME:EDT
DTSTART:20160313T070000
END:DAYLIGHT
BEGIN:STANDARD
TZOFFSETFROM:-0400
TZOFFSETTO:-0500
TZNAME:EST
DTSTART:20161106T060000
END:STANDARD
BEGIN:DAYLIGHT
TZOFFSETFROM:-0500
TZOFFSETTO:-0400
TZNAME:EDT
DTSTART:20170312T070000
END:DAYLIGHT
BEGIN:STANDARD
TZOFFSETFROM:-0400
TZOFFSETTO:-0500
TZNAME:EST
DTSTART:20171105T060000
END:STANDARD
BEGIN:DAYLIGHT
TZOFFSETFROM:-0500
TZOFFSETTO:-0400
TZNAME:EDT
DTSTART:20180311T070000
END:DAYLIGHT
BEGIN:STANDARD
TZOFFSETFROM:-0400
TZOFFSETTO:-0500
TZNAME:EST
DTSTART:20181104T060000
END:STANDARD
BEGIN:DAYLIGHT
TZOFFSETFROM:-0500
TZOFFSETTO:-0400
TZNAME:EDT
DTSTART:20190310T070000
END:DAYLIGHT
BEGIN:STANDARD
TZOFFSETFROM:-0400
TZOFFSETTO:-0500
TZNAME:EST
DTSTART:20191103T060000
END:STANDARD
BEGIN:DAYLIGHT
TZOFFSETFROM:-0500
TZOFFSETTO:-0400
TZNAME:EDT
DTSTART:20200308T070000
END:DAYLIGHT
BEGIN:STANDARD
TZOFFSETFROM:-0400
TZOFFSETTO:-0500
TZNAME:EST
DTSTART:20201101T060000
END:STANDARD
BEGIN:DAYLIGHT
TZOFFSETFROM:-0500
TZOFFSETTO:-0400
TZNAME:EDT
DTSTART:20210314T070000
END:DAYLIGHT
BEGIN:STANDARD
TZOFFSETFROM:-0400
TZOFFSETTO:-0500
TZNAME:EST
DTSTART:20211107T060000
END:STANDARD
BEGIN:DAYLIGHT
TZOFFSETFROM:-0500
TZOFFSETTO:-0400
TZNAME:EDT
DTSTART:20220313T070000
END:DAYLIGHT
BEGIN:STANDARD
TZOFFSETFROM:-0400
TZOFFSETTO:-0500
TZNAME:EST
DTSTART:20221106T060000
END:STANDARD
BEGIN:DAYLIGHT
TZOFFSETFROM:-0500
TZOFFSETTO:-0400
TZNAME:EDT
DTSTART:20230312T070000
END:DAYLIGHT
BEGIN:STANDARD
TZOFFSETFROM:-0400
TZOFFSETTO:-0500
TZNAME:EST
DTSTART:20231105T060000
END:STANDARD
BEGIN:DAYLIGHT
TZOFFSETFROM:-0500
TZOFFSETTO:-0400
TZNAME:EDT
DTSTART:20240310T070000
END:DAYLIGHT
BEGIN:STANDARD
TZOFFSETFROM:-0400
TZOFFSETTO:-0500
TZNAME:EST
DTSTART:20241103T060000
END:STANDARD
BEGIN:DAYLIGHT
TZOFFSETFROM:-0500
TZOFFSETTO:-0400
TZNAME:EDT
DTSTART:20250309T070000
END:DAYLIGHT
BEGIN:STANDARD
TZOFFSETFROM:-0400
TZOFFSETTO:-0500
TZNAME:EST
DTSTART:20251102T060000
END:STANDARD
BEGIN:DAYLIGHT
TZOFFSETFROM:-0500
TZOFFSETTO:-0400
TZNAME:EDT
DTSTART:20260308T070000
END:DAYLIGHT
BEGIN:STANDARD
TZOFFSETFROM:-0400
TZOFFSETTO:-0500
TZNAME:EST
DTSTART:20261101T060000
END:STANDARD
END:VTIMEZONE
BEGIN:VTIMEZONE
TZID:UTC
BEGIN:STANDARD
TZOFFSETFROM:+0000
TZOFFSETTO:+0000
TZNAME:UTC
DTSTART:20220101T000000
END:STANDARD
END:VTIMEZONE
BEGIN:VTIMEZONE
TZID:America/New_York
BEGIN:DAYLIGHT
TZOFFSETFROM:-0500
TZOFFSETTO:-0400
TZNAME:EDT
DTSTART:20220313T070000
END:DAYLIGHT
BEGIN:STANDARD
TZOFFSETFROM:-0400
TZOFFSETTO:-0500
TZNAME:EST
DTSTART:20221106T060000
END:STANDARD
BEGIN:DAYLIGHT
TZOFFSETFROM:-0500
TZOFFSETTO:-0400
TZNAME:EDT
DTSTART:20230312T070000
END:DAYLIGHT
BEGIN:STANDARD
TZOFFSETFROM:-0400
TZOFFSETTO:-0500
TZNAME:EST
DTSTART:20231105T060000
END:STANDARD
BEGIN:DAYLIGHT
TZOFFSETFROM:-0500
TZOFFSETTO:-0400
TZNAME:EDT
DTSTART:20240310T070000
END:DAYLIGHT
BEGIN:STANDARD
TZOFFSETFROM:-0400
TZOFFSETTO:-0500
TZNAME:EST
DTSTART:20241103T060000
END:STANDARD
END:VTIMEZONE
BEGIN:VEVENT
DTSTART;TZID=America/Detroit:20250930T160000
DTEND;TZID=America/Detroit:20250930T180000
DTSTAMP:20260420T040928
CREATED:20250905T204922Z
LAST-MODIFIED:20250905T204922Z
UID:60645-1759248000-1759255200@grrotary.org
SUMMARY:9.30.25 - Roland McDonald House Meal Prep - Volunteer Opportunity
DESCRIPTION:Our Community Engagement Committee is pleased to provide the following volunteer opportunity for our Rotarians and friends to prep meals at Ronald McDonald House! \nSign Up Here: https://www.signupgenius.com/go/10C0B4EA8A823A0FD0-58278439-ronald \nDate: Tuesday\, September 30th \nTime: 4:00 pm – 6:00 pm \nLocation: 1323 Cedar St NE Grand Rapids\, MI 49503 \nDetails: \n\n5 volunteers needed
URL:https://grrotary.org/event/9-30-25-roland-mcdonald-house-meal-prep-volunteer-opportunity/
LOCATION:Ronald McDonald House\, 1323 Cedar St NE\, Grand Rapids\, 49503\, United States
ATTACH;FMTTYPE=image/png:https://grrotary.org/wp-content/uploads/2021/05/Ronald-McDonald-House.png
GEO:42.9808213;-85.6355713
X-APPLE-STRUCTURED-LOCATION;VALUE=URI;X-ADDRESS=Ronald McDonald House 1323 Cedar St NE Grand Rapids 49503 United States;X-APPLE-RADIUS=500;X-TITLE=1323 Cedar St NE:geo:-85.6355713,42.9808213
END:VEVENT
BEGIN:VEVENT
DTSTART;TZID=America/Detroit:20250205T160000
DTEND;TZID=America/Detroit:20250205T180000
DTSTAMP:20260420T040928
CREATED:20250110T191210Z
LAST-MODIFIED:20250203T191309Z
UID:60137-1738771200-1738778400@grrotary.org
SUMMARY:2.5.25 - Ronald Mcdonald House Dinner Prep - Volunteer Opportunity
DESCRIPTION:Our Community Engagement Committee is pleased to provide the following volunteer opportunity for our Rotarians and friends to prep meals at Ronald McDonald House! \nSign Up Here: https://www.signupgenius.com/go/10C0B4EA8A823A0FD0-54335268-ronald \nDate: Wednesday\, February 5th @ 4:00 pm – 6:00 pm \nLocation: 1323 Cedar St NE Grand Rapids\, MI 49503 \nDetails: \n\n5 volunteers needed
URL:https://grrotary.org/event/2-5-25-ronald-mcdonald-house-dinner-prep-volunteer-opportunity/
LOCATION:Ronald McDonald House\, 1323 Cedar St NE\, Grand Rapids\, 49503\, United States
ATTACH;FMTTYPE=image/png:https://grrotary.org/wp-content/uploads/2024/09/ronaldmdh-logo.png
GEO:42.9808213;-85.6355713
X-APPLE-STRUCTURED-LOCATION;VALUE=URI;X-ADDRESS=Ronald McDonald House 1323 Cedar St NE Grand Rapids 49503 United States;X-APPLE-RADIUS=500;X-TITLE=1323 Cedar St NE:geo:-85.6355713,42.9808213
END:VEVENT
BEGIN:VEVENT
DTSTART;TZID=UTC:20241002T160000
DTEND;TZID=UTC:20241002T180000
DTSTAMP:20260420T040928
CREATED:20240925T191413Z
LAST-MODIFIED:20240925T191413Z
UID:59864-1727884800-1727892000@grrotary.org
SUMMARY:10.2.24 - Ronald McDonald House Dinner Prep - Volunteer Opportunity
DESCRIPTION:Our Community Engagement Committee is pleased to provide the following volunteer opportunity for our Rotarians and friends to prep meals at Ronald McDonald House! \nSign Up Here: https://www.signupgenius.com/go/10C0B4EA8A823A0FD0-51706493-ronald \nContact: Jim Gilbert or Andrea Nucci \nDate: Wednesday\, October 2nd @ 4:00 pm – 6:00 pm \nLocation: 1323 Cedar St NE Grand Rapids\, MI 49503 \nDetails: \n\n6 volunteers needed
URL:https://grrotary.org/event/10-2-24-ronald-mcdonald-house-dinner-prep-volunteer-opportunity/
LOCATION:Ronald McDonald House\, 1323 Cedar St NE\, Grand Rapids\, 49503\, United States
ATTACH;FMTTYPE=image/png:https://grrotary.org/wp-content/uploads/2024/09/ronaldmdh-logo.png
GEO:42.9808213;-85.6355713
X-APPLE-STRUCTURED-LOCATION;VALUE=URI;X-ADDRESS=Ronald McDonald House 1323 Cedar St NE Grand Rapids 49503 United States;X-APPLE-RADIUS=500;X-TITLE=1323 Cedar St NE:geo:-85.6355713,42.9808213
END:VEVENT
BEGIN:VEVENT
DTSTART;TZID=UTC:20240522T160000
DTEND;TZID=UTC:20240522T180000
DTSTAMP:20260420T040928
CREATED:20240417T205253Z
LAST-MODIFIED:20240417T205253Z
UID:59623-1716393600-1716400800@grrotary.org
SUMMARY:5.22.24 - Ronald McDonald House Dinner Prep - Volunteer Opportunity
DESCRIPTION:Our Community Engagement Committee is pleased to provide the following volunteer opportunity for our Rotarians and friends!\nRonald McDonald House Dinner Prep \nSignup Here: https://www.signupgenius.com/go/10C0B4EA8A823A0FD0-49165642-ronald \nContact: \nJim Gilbert \nDate: \nWednesday\, May 22nd @ 4:00 – 6:00 pm \nLocation: \n1323 Cedar St NE Grand Rapids\, MI 49503 \nDetails: \n\n6 volunteers needed
URL:https://grrotary.org/event/5-22-24-ronald-mcdonald-house-dinner-prep-volunteer-opportunity/
LOCATION:Ronald McDonald House\, 1323 Cedar St NE\, Grand Rapids\, 49503\, United States
ATTACH;FMTTYPE=image/png:https://grrotary.org/wp-content/uploads/2021/05/Ronald-McDonald-House.png
GEO:42.9808213;-85.6355713
X-APPLE-STRUCTURED-LOCATION;VALUE=URI;X-ADDRESS=Ronald McDonald House 1323 Cedar St NE Grand Rapids 49503 United States;X-APPLE-RADIUS=500;X-TITLE=1323 Cedar St NE:geo:-85.6355713,42.9808213
END:VEVENT
BEGIN:VEVENT
DTSTART;TZID=UTC:20240228T160000
DTEND;TZID=UTC:20240228T180000
DTSTAMP:20260420T040928
CREATED:20240124T235959Z
LAST-MODIFIED:20240124T235959Z
UID:59540-1709136000-1709143200@grrotary.org
SUMMARY:2.28.24 - Ronald McDonald House Dinner Prep - Volunteer Opportunity
DESCRIPTION:Our Community Engagement Committee is pleased to provide the following volunteer opportunity for our Rotarians and friends!\nRonald McDonald House Dinner Prep \nSignup Here: https://www.signupgenius.com/go/10C0B4EA8A823A0FD0-47451113-ronald \nContact: \nJim Gilbert \nDate: \nWednesday\, February 28th @ 4 – 6:00 pm \nLocation: \n1323 Cedar St NE Grand Rapids\, MI 49503 \nDetails: \n\n6 volunteers needed
URL:https://grrotary.org/event/2-28-24-ronald-mcdonald-house-dinner-prep-volunteer-opportunity/
LOCATION:Ronald McDonald House\, 1323 Cedar St NE\, Grand Rapids\, 49503\, United States
ATTACH;FMTTYPE=image/png:https://grrotary.org/wp-content/uploads/2021/05/Ronald-McDonald-House.png
GEO:42.9808213;-85.6355713
X-APPLE-STRUCTURED-LOCATION;VALUE=URI;X-ADDRESS=Ronald McDonald House 1323 Cedar St NE Grand Rapids 49503 United States;X-APPLE-RADIUS=500;X-TITLE=1323 Cedar St NE:geo:-85.6355713,42.9808213
END:VEVENT
BEGIN:VEVENT
DTSTART;TZID=UTC:20231010T160000
DTEND;TZID=UTC:20231010T183000
DTSTAMP:20260420T040928
CREATED:20231003T190002Z
LAST-MODIFIED:20231003T190908Z
UID:59413-1696953600-1696962600@grrotary.org
SUMMARY:10.10.23 - Ronald McDonald House Dinner Prep - Volunteer Opportunity
DESCRIPTION:Our Community Engagement Committee is pleased to provide the following volunteer opportunity for our Rotarians and friends!\nRonald McDonald House Dinner Prep \nSignup Here: https://rmhcwm.volunteerhub.com/vv2/lp/rotarygr \nContact: \nLarry Milks @ larry@themilks.org \nDate: \nTuesday\, October 10th @ 4 pm – 6:30 pm \nLocation: \n1323 Cedar St NE Grand Rapids\, MI 49503 \nDetails: \n\n5 volunteers needed\nCooking and preparing meals\nA wonderful time of service\, teamwork\, and conversation
URL:https://grrotary.org/event/10-10-23-ronald-mcdonald-house-dinner-prep-volunteer-opportunity-2/
LOCATION:Ronald McDonald House\, 1323 Cedar St NE\, Grand Rapids\, 49503\, United States
ATTACH;FMTTYPE=image/png:https://grrotary.org/wp-content/uploads/2021/05/Ronald-McDonald-House.png
GEO:42.9808213;-85.6355713
X-APPLE-STRUCTURED-LOCATION;VALUE=URI;X-ADDRESS=Ronald McDonald House 1323 Cedar St NE Grand Rapids 49503 United States;X-APPLE-RADIUS=500;X-TITLE=1323 Cedar St NE:geo:-85.6355713,42.9808213
END:VEVENT
BEGIN:VEVENT
DTSTART;TZID=UTC:20230428T160000
DTEND;TZID=UTC:20230428T180000
DTSTAMP:20260420T040928
CREATED:20230124T001840Z
LAST-MODIFIED:20230124T001840Z
UID:59100-1682697600-1682704800@grrotary.org
SUMMARY:4.28.23 - Ronald McDonald House - Volunteer Opportunity
DESCRIPTION:Our Community Engagement Committee is pleased to provide the following volunteer opportunity for our Rotarians and friends!\nApril 28th  – Ronald McDonald House Dinner Prep \nContact: \nLarry Milks @ larry@themilks.org \nDate: \nFriday\, April 28th — 4 pm – 6 pm \nLocation: \n1323 Cedar St NE Grand Rapids\, MI 49503 \nDetails: \n\n5 volunteers needed\nCooking and preparing meals\nA wonderful time of service\, teamwork\, and conversation
URL:https://grrotary.org/event/4-28-23-ronald-mcdonald-house-volunteer-opportunity/
LOCATION:Ronald McDonald House\, 1323 Cedar St NE\, Grand Rapids\, 49503\, United States
ATTACH;FMTTYPE=image/png:https://grrotary.org/wp-content/uploads/2021/05/Ronald-McDonald-House.png
GEO:42.9808213;-85.6355713
X-APPLE-STRUCTURED-LOCATION;VALUE=URI;X-ADDRESS=Ronald McDonald House 1323 Cedar St NE Grand Rapids 49503 United States;X-APPLE-RADIUS=500;X-TITLE=1323 Cedar St NE:geo:-85.6355713,42.9808213
END:VEVENT
BEGIN:VEVENT
DTSTART;TZID=America/New_York:20230207T160000
DTEND;TZID=America/New_York:20230207T180000
DTSTAMP:20260420T040928
CREATED:20230121T075805Z
LAST-MODIFIED:20230127T230024Z
UID:59093-1675785600-1675792800@grrotary.org
SUMMARY:2.7.23 - Ronald McDonald House - Volunteer Opportunity
DESCRIPTION:Our Community Engagement Committee is pleased to provide the following volunteer opportunity for our Rotarians and friends!\nFebruary 7th  – Ronald McDonald House Dinner Prep \nContact: \nLarry Milks @ larry@themilks.org \nDate: \nTuesday\, February 7th — 4 pm – 6 pm \nLocation: \n1323 Cedar St NE Grand Rapids\, MI 49503 \nDetails: \n\n5 volunteers needed\nCooking and preparing meals\nA wonderful time of service\, teamwork\, and conversation
URL:https://grrotary.org/event/2-7-23-ronald-mcdonald-house-volunteer-opportunity/
LOCATION:Ronald McDonald House\, 1323 Cedar St NE\, Grand Rapids\, 49503\, United States
ATTACH;FMTTYPE=image/png:https://grrotary.org/wp-content/uploads/2021/05/Ronald-McDonald-House.png
GEO:42.9808213;-85.6355713
X-APPLE-STRUCTURED-LOCATION;VALUE=URI;X-ADDRESS=Ronald McDonald House 1323 Cedar St NE Grand Rapids 49503 United States;X-APPLE-RADIUS=500;X-TITLE=1323 Cedar St NE:geo:-85.6355713,42.9808213
END:VEVENT
BEGIN:VEVENT
DTSTART;TZID=America/Detroit:20180212T160000
DTEND;TZID=America/Detroit:20180212T180000
DTSTAMP:20260420T040928
CREATED:20180212T162551Z
LAST-MODIFIED:20180212T162551Z
UID:4771-1518451200-1518458400@grrotary.org
SUMMARY:Volunteer Opportunity
DESCRIPTION:In recognition of the anniversary of Rotary International. The Rotary Club of Grand Rapids participates in “Days of Caring”. \nOne of this year’s “Days of Caring” projects will be taking place at the Ronald McDonald House of Western Michigan on Monday\, February 12th.  3 volunteers are needed to make dinner and dessert for residents of from 4:00-pam-6:00pm. \nIf you are able to volunteer\, please contact Jim Siegel. \n \n  \n  \n  \n  \nMission\nTo provide a “home-away-from-home” for families of children traveling to Grand Rapids for their child’s medical or mental health treatment. \nHistory\nThe first Ronald McDonald House opened in Philadelphia in 1974. Since then more than 350 Houses have been licensed around the world … all with the common mission of keeping families close as their children receive medical or mental health treatment. \nThe Ronald McDonald House of Western Michigan (RMHWM) opened on March 23\, 1990. The 19\,000 square foot facility was designed specifically as a Ronald McDonald House. Located on five park-like acres\, the House has seventeen bedrooms with private baths; two are isolation equipped and three are handicap accessible. Common rooms include a large family-style kitchen with four complete cooking areas\, a dining room\, great room with fireplace\, sitting room\, sunroom overlooking the backyard that has a playground area and walking path and children’s play house\, a laundry room\, and recreation room. \nOverview of the House\nRMHWM registers over 300 families each year. While guests arrive from counties throughout Michigan\, other states\, and even foreign countries\, the majority of the families served reside in the West Michigan area. Families stay at the House for 18 nights\, on average\, though we have had families stay with us for close to a year. We usually have 35-45 guests at the House each night.
URL:https://grrotary.org/event/ronald-mcdonald-house/
LOCATION:Ronald McDonald House\, 1323 Cedar St NE\, Grand Rapids\, 49503\, United States
ATTACH;FMTTYPE=:
GEO:42.9808213;-85.6355713
X-APPLE-STRUCTURED-LOCATION;VALUE=URI;X-ADDRESS=Ronald McDonald House 1323 Cedar St NE Grand Rapids 49503 United States;X-APPLE-RADIUS=500;X-TITLE=1323 Cedar St NE:geo:-85.6355713,42.9808213
END:VEVENT
BEGIN:VEVENT
DTSTART;TZID=America/Detroit:20171207T160000
DTEND;TZID=America/Detroit:20171207T171500
DTSTAMP:20260420T040928
CREATED:20170730T165802Z
LAST-MODIFIED:20170730T165802Z
UID:3923-1512662400-1512666900@grrotary.org
SUMMARY:12.7.17 - "Rotary in the PM"
DESCRIPTION:Please join us for networking\, appetizers and drinks at the Ronald McDonald House beginning at 4:00pm. \nWe will have a modified program followed by an opportunity to network with fellow Rotarian’s and guests.  In addition\, the staff at Ronald McDonald House will provide a tour of their facility. \nWe hope that you will bring your spouses\, friends\, co-workers\, clients and prospect members to this fun event. The cost for each guest is $20. \nHors d’oeuvres will be provided\, along with beer and wine. \nPlease RSVP by 12:00pm on Friday\, December 1st. \n \n 
URL:https://grrotary.org/event/12-7-17-location-to-be-determined/
LOCATION:Ronald McDonald House\, 1323 Cedar St NE\, Grand Rapids\, 49503\, United States
CATEGORIES:Weekly Meeting
ATTACH;FMTTYPE=:
GEO:42.9808213;-85.6355713
X-APPLE-STRUCTURED-LOCATION;VALUE=URI;X-ADDRESS=Ronald McDonald House 1323 Cedar St NE Grand Rapids 49503 United States;X-APPLE-RADIUS=500;X-TITLE=1323 Cedar St NE:geo:-85.6355713,42.9808213
END:VEVENT
BEGIN:VEVENT
DTSTART;TZID=America/Detroit:20170213T150000
DTEND;TZID=America/Detroit:20170213T170000
DTSTAMP:20260420T040928
CREATED:20170210T143157Z
LAST-MODIFIED:20170210T143157Z
UID:3416-1486998000-1487005200@grrotary.org
SUMMARY:2.13-17 - Volunteer Opportunity
DESCRIPTION:You will be making and serving dinner for the residents at Ronald McDonald House of Western Michigan from 4:00pm-6:00pm. We need 4 volunteers.  Our contact will be Jim Siegel. Please let me Rotary office know if you would like to volunteer at rotary@grrotary.org or by calling 616-459-5640. \nAbout the Ronald McDonal House\n\n\n\nMission\n“To provide a “home away from home” for families of children traveling to Grand Rapids for their child’s medical or mental health treatment.” \nHistory\nThe first Ronald McDonald House opened in Philadelphia in 1974. Since then more than 350 Houses have been licensed around the world … all have the common mission of providing a “home away from home” for the families of children seeking medical or mental health treatment. \nThe Ronald McDonald House of Western Michigan (RMHWM) opened on March 23\, 1990. The 19\,000 square foot facility was designed specifically as a Ronald McDonald House. Located on five park-like acres\, the House has seventeen bedrooms with private baths; two are isolation equipped and three are handicap accessible. Common rooms include a large family-style kitchen with four complete cooking areas\, a dining room\, great room with fireplace\, sitting room\, sunroom overlooking a playground area and walking path\, a laundry room\, children’s play house\, and recreation room. \n\n\n 
URL:https://grrotary.org/event/volunteer-opportunity-ronald-mcdonald-house-2017-02-13/
LOCATION:Ronald McDonald House\, 1323 Cedar St NE\, Grand Rapids\, 49503\, United States
GEO:42.9808213;-85.6355713
X-APPLE-STRUCTURED-LOCATION;VALUE=URI;X-ADDRESS=Ronald McDonald House 1323 Cedar St NE Grand Rapids 49503 United States;X-APPLE-RADIUS=500;X-TITLE=1323 Cedar St NE:geo:-85.6355713,42.9808213
END:VEVENT
BEGIN:VEVENT
DTSTART;TZID=America/Detroit:20170212T150000
DTEND;TZID=America/Detroit:20170212T170000
DTSTAMP:20260420T040928
CREATED:20170210T143157Z
LAST-MODIFIED:20170210T143157Z
UID:3414-1486911600-1486918800@grrotary.org
SUMMARY:Volunteer Opportunity - Ronald McDonald House
DESCRIPTION:You will be making individual cheesecakes for the residents at Ronald McDonald House of Western Michigan beginning at 3:00pm. We need 2-4 volunteers.  Our contact will be Jim Siegel. Please let me Rotary office know if you would like to volunteer at rotary@grrotary.org or by calling 616-459-5640. \nAbout the Ronald McDonal House\n\n\n\nMission\n“To provide a “home away from home” for families of children traveling to Grand Rapids for their child’s medical or mental health treatment.” \nHistory\nThe first Ronald McDonald House opened in Philadelphia in 1974. Since then more than 350 Houses have been licensed around the world … all have the common mission of providing a “home away from home” for the families of children seeking medical or mental health treatment. \nThe Ronald McDonald House of Western Michigan (RMHWM) opened on March 23\, 1990. The 19\,000 square foot facility was designed specifically as a Ronald McDonald House. Located on five park-like acres\, the House has seventeen bedrooms with private baths; two are isolation equipped and three are handicap accessible. Common rooms include a large family-style kitchen with four complete cooking areas\, a dining room\, great room with fireplace\, sitting room\, sunroom overlooking a playground area and walking path\, a laundry room\, children’s play house\, and recreation room. \n\n\n 
URL:https://grrotary.org/event/volunteer-opportunity-ronald-mcdonald-house/2017-02-12/
LOCATION:Ronald McDonald House\, 1323 Cedar St NE\, Grand Rapids\, 49503\, United States
GEO:42.9808213;-85.6355713
X-APPLE-STRUCTURED-LOCATION;VALUE=URI;X-ADDRESS=Ronald McDonald House 1323 Cedar St NE Grand Rapids 49503 United States;X-APPLE-RADIUS=500;X-TITLE=1323 Cedar St NE:geo:-85.6355713,42.9808213
END:VEVENT
END:VCALENDAR