BEGIN:VCALENDAR
VERSION:2.0
PRODID:-//Rotary Club Of Grand Rapids - ECPv6.15.20//NONSGML v1.0//EN
CALSCALE:GREGORIAN
METHOD:PUBLISH
X-ORIGINAL-URL:https://grrotary.org
X-WR-CALDESC:Events for Rotary Club Of Grand Rapids
REFRESH-INTERVAL;VALUE=DURATION:PT1H
X-Robots-Tag:noindex
X-PUBLISHED-TTL:PT1H
BEGIN:VTIMEZONE
TZID:America/Detroit
BEGIN:DAYLIGHT
TZOFFSETFROM:-0500
TZOFFSETTO:-0400
TZNAME:EDT
DTSTART:20150308T070000
END:DAYLIGHT
BEGIN:STANDARD
TZOFFSETFROM:-0400
TZOFFSETTO:-0500
TZNAME:EST
DTSTART:20151101T060000
END:STANDARD
BEGIN:DAYLIGHT
TZOFFSETFROM:-0500
TZOFFSETTO:-0400
TZNAME:EDT
DTSTART:20160313T070000
END:DAYLIGHT
BEGIN:STANDARD
TZOFFSETFROM:-0400
TZOFFSETTO:-0500
TZNAME:EST
DTSTART:20161106T060000
END:STANDARD
BEGIN:DAYLIGHT
TZOFFSETFROM:-0500
TZOFFSETTO:-0400
TZNAME:EDT
DTSTART:20170312T070000
END:DAYLIGHT
BEGIN:STANDARD
TZOFFSETFROM:-0400
TZOFFSETTO:-0500
TZNAME:EST
DTSTART:20171105T060000
END:STANDARD
END:VTIMEZONE
BEGIN:VEVENT
DTSTART;TZID=America/Detroit:20160204T170000
DTEND;TZID=America/Detroit:20160204T190000
DTSTAMP:20260422T035109
CREATED:20160201T141557Z
LAST-MODIFIED:20160201T141557Z
UID:1538-1454605200-1454612400@grrotary.org
SUMMARY:Rotary After Hours - Harmony Hall
DESCRIPTION:Join your fellow Rotarians and Friends of Rotary for this great networking opportunity.  Bring prospective members\, your clients\, co-workers\, spouse and significant other for an evening of fun\, fellowship and friendship. \nThis months event will be held at: \nHARMONY HALL – 1401 Stocking Ave NW \nLocated on the Westside of Grand Rapids in the completely renovated Little Mexico building\, we have crafted a menu and atmosphere with German beer hall influences.  We brew small batches of well-balanced beer. Brewing this way allows us to react seasonally and respond the tastes of our Beer Lovin’ community.
URL:https://grrotary.org/event/rotary-after-hours-harmony-brewing-company/
LOCATION:Harmony Brewing Company\, 401 Stocking Ave NW\, Grand Rapids\, MI\, 49504\, United States
GEO:42.9709519;-85.684599
X-APPLE-STRUCTURED-LOCATION;VALUE=URI;X-ADDRESS=Harmony Brewing Company 401 Stocking Ave NW Grand Rapids MI 49504 United States;X-APPLE-RADIUS=500;X-TITLE=401 Stocking Ave NW:geo:-85.684599,42.9709519
END:VEVENT
END:VCALENDAR