BEGIN:VCALENDAR
VERSION:2.0
PRODID:-//Rotary Club Of Grand Rapids - ECPv6.15.20//NONSGML v1.0//EN
CALSCALE:GREGORIAN
METHOD:PUBLISH
X-ORIGINAL-URL:https://grrotary.org
X-WR-CALDESC:Events for Rotary Club Of Grand Rapids
REFRESH-INTERVAL;VALUE=DURATION:PT1H
X-Robots-Tag:noindex
X-PUBLISHED-TTL:PT1H
BEGIN:VTIMEZONE
TZID:UTC
BEGIN:STANDARD
TZOFFSETFROM:+0000
TZOFFSETTO:+0000
TZNAME:UTC
DTSTART:20230101T000000
END:STANDARD
END:VTIMEZONE
BEGIN:VEVENT
DTSTART;TZID=UTC:20240827T150000
DTEND;TZID=UTC:20240827T170000
DTSTAMP:20260420T054223
CREATED:20240710T003938Z
LAST-MODIFIED:20240710T003938Z
UID:59745-1724770800-1724778000@grrotary.org
SUMMARY:8.27.24 - Habitat Kent ReStore North - Volunteer Opportunity
DESCRIPTION:Our Community Engagement Committee is pleased to provide the following volunteer opportunity for Rotarians and their family members and friends! \nDate: Tuesday\, August 27th \nTime: 3:00 – 5:00 PM \nLocation: Habitat Kent ReStore North (Alpine) – 5920 Alpine Ave NW\, Comstock Park\, MI 49321 \nSign-Up: https://www.signupgenius.com/go/10C0B4EA8A823A0FD0-50263388-habitat \nDetails: \n\n15 Volunteers Needed\nThis is a family-friendly volunteer opportunity. Please invite family members and friends to join us!\nVolunteers need to be at least 14 years old\, and those between 14-17 years must be accompanied by a parent or guardian\nHelp with the following tasks: Receive and organize donations\, Organize merchandise\, Test donated items
URL:https://grrotary.org/event/8-27-24-habitat-kent-restore-north-volunteer-opportunity/
LOCATION:Habitat Kent ReStore North\, 5920 Alpine Ave NW\, Comstock Park\, MI\, 49321\, United States
ATTACH;FMTTYPE=image/jpeg:https://grrotary.org/wp-content/uploads/2022/08/HforH.jpg
END:VEVENT
END:VCALENDAR