BEGIN:VCALENDAR
VERSION:2.0
PRODID:-//Rotary Club Of Grand Rapids - ECPv6.15.20//NONSGML v1.0//EN
CALSCALE:GREGORIAN
METHOD:PUBLISH
X-WR-CALNAME:Rotary Club Of Grand Rapids
X-ORIGINAL-URL:https://grrotary.org
X-WR-CALDESC:Events for Rotary Club Of Grand Rapids
REFRESH-INTERVAL;VALUE=DURATION:PT1H
X-Robots-Tag:noindex
X-PUBLISHED-TTL:PT1H
BEGIN:VTIMEZONE
TZID:America/Detroit
BEGIN:DAYLIGHT
TZOFFSETFROM:-0500
TZOFFSETTO:-0400
TZNAME:EDT
DTSTART:20230312T070000
END:DAYLIGHT
BEGIN:STANDARD
TZOFFSETFROM:-0400
TZOFFSETTO:-0500
TZNAME:EST
DTSTART:20231105T060000
END:STANDARD
BEGIN:DAYLIGHT
TZOFFSETFROM:-0500
TZOFFSETTO:-0400
TZNAME:EDT
DTSTART:20240310T070000
END:DAYLIGHT
BEGIN:STANDARD
TZOFFSETFROM:-0400
TZOFFSETTO:-0500
TZNAME:EST
DTSTART:20241103T060000
END:STANDARD
BEGIN:DAYLIGHT
TZOFFSETFROM:-0500
TZOFFSETTO:-0400
TZNAME:EDT
DTSTART:20250309T070000
END:DAYLIGHT
BEGIN:STANDARD
TZOFFSETFROM:-0400
TZOFFSETTO:-0500
TZNAME:EST
DTSTART:20251102T060000
END:STANDARD
BEGIN:DAYLIGHT
TZOFFSETFROM:-0500
TZOFFSETTO:-0400
TZNAME:EDT
DTSTART:20260308T070000
END:DAYLIGHT
BEGIN:STANDARD
TZOFFSETFROM:-0400
TZOFFSETTO:-0500
TZNAME:EST
DTSTART:20261101T060000
END:STANDARD
END:VTIMEZONE
BEGIN:VEVENT
DTSTART;TZID=America/Detroit:20251103T173000
DTEND;TZID=America/Detroit:20251103T193000
DTSTAMP:20260420T054125
CREATED:20251002T185446Z
LAST-MODIFIED:20251002T185446Z
UID:60678-1762191000-1762198200@grrotary.org
SUMMARY:11.3.25 - Community Food Club - Volunteer Opportunity
DESCRIPTION:Our Community Engagement Committee is pleased to offer the following volunteer opportunity for our Rotarians to restock shelves at the Community Food Club! \nThis is a family-friendly event; minors are allowed with a guardian. \nDate: Monday\, November 3rd \nTime: 5:30 PM – 7:30 PM \nVolunteers Needed: 6 Needed\, but can accommodate up to 10 volunteers \nLocation: \nCommunity Food Club\n1100 Division Ave S\nGrand Rapids\, MI 49507 \nSign Up: https://www.signupgenius.com/go/10C0B4EA8A823A0FD0-59032299-community
URL:https://grrotary.org/event/11-3-25-community-food-club-volunteer-opportunity/
LOCATION:Community Food Club\, 1100 Division Ave S\, Grand Rapids\, MI\, 49507\, United States
ATTACH;FMTTYPE=image/webp:https://grrotary.org/wp-content/uploads/2025/10/CFC-Logo.webp
END:VEVENT
BEGIN:VEVENT
DTSTART;TZID=America/Detroit:20251002T163000
DTEND;TZID=America/Detroit:20251002T180000
DTSTAMP:20260420T054125
CREATED:20250905T210144Z
LAST-MODIFIED:20250905T210144Z
UID:60654-1759422600-1759428000@grrotary.org
SUMMARY:10.2.25 - Club 77 hosted by Community Food Club
DESCRIPTION:Join us for our monthly Club 77 hosted by Community Food Club!
URL:https://grrotary.org/event/10-2-25-club-77-hosted-by-community-food-club/
LOCATION:Community Food Club\, 1100 Division Ave S\, Grand Rapids\, MI\, 49507\, United States
ATTACH;FMTTYPE=image/jpeg:https://grrotary.org/wp-content/uploads/2023/01/My-project-1-2.jpg
END:VEVENT
BEGIN:VEVENT
DTSTART;TZID=America/Detroit:20241104T173000
DTEND;TZID=America/Detroit:20241104T193000
DTSTAMP:20260420T054125
CREATED:20241017T184935Z
LAST-MODIFIED:20241017T184935Z
UID:59907-1730741400-1730748600@grrotary.org
SUMMARY:11.4.24 - Community Food Club - Volunteer Opportunity
DESCRIPTION:Date: Monday\, November 4th \nTime: 5:30 – 7:30 pm \nLocation: 1100 South Division Ave.\, Grand Rapids\, MI 49507 \nVolunteers: 6 needed\n      Rotary Family Members and Friends are Welcome! \nSIGN UP: https://www.signupgenius.com/go/10C0B4EA8A823A0FD0-52470884-community \nDetails: We will pack fruits and veggies and stock the shelves. Light refreshments and drinks will be provided. (Some beer and wine and NA options) \nContact: Jon Roberts & Andrea Nucci 
URL:https://grrotary.org/event/11-4-24-community-food-club-volunteer-opportunity/
LOCATION:Community Food Club\, 1100 Division Ave S\, Grand Rapids\, MI\, 49507\, United States
ATTACH;FMTTYPE=image/png:https://grrotary.org/wp-content/uploads/2024/10/communityfoodclub.png
END:VEVENT
END:VCALENDAR