BEGIN:VCALENDAR
VERSION:2.0
PRODID:-//Rotary Club Of Grand Rapids - ECPv6.15.20//NONSGML v1.0//EN
CALSCALE:GREGORIAN
METHOD:PUBLISH
X-WR-CALNAME:Rotary Club Of Grand Rapids
X-ORIGINAL-URL:https://grrotary.org
X-WR-CALDESC:Events for Rotary Club Of Grand Rapids
REFRESH-INTERVAL;VALUE=DURATION:PT1H
X-Robots-Tag:noindex
X-PUBLISHED-TTL:PT1H
BEGIN:VTIMEZONE
TZID:America/Detroit
BEGIN:DAYLIGHT
TZOFFSETFROM:-0500
TZOFFSETTO:-0400
TZNAME:EDT
DTSTART:20230312T070000
END:DAYLIGHT
BEGIN:STANDARD
TZOFFSETFROM:-0400
TZOFFSETTO:-0500
TZNAME:EST
DTSTART:20231105T060000
END:STANDARD
BEGIN:DAYLIGHT
TZOFFSETFROM:-0500
TZOFFSETTO:-0400
TZNAME:EDT
DTSTART:20240310T070000
END:DAYLIGHT
BEGIN:STANDARD
TZOFFSETFROM:-0400
TZOFFSETTO:-0500
TZNAME:EST
DTSTART:20241103T060000
END:STANDARD
BEGIN:DAYLIGHT
TZOFFSETFROM:-0500
TZOFFSETTO:-0400
TZNAME:EDT
DTSTART:20250309T070000
END:DAYLIGHT
BEGIN:STANDARD
TZOFFSETFROM:-0400
TZOFFSETTO:-0500
TZNAME:EST
DTSTART:20251102T060000
END:STANDARD
END:VTIMEZONE
BEGIN:VEVENT
DTSTART;TZID=America/Detroit:20241104T173000
DTEND;TZID=America/Detroit:20241104T193000
DTSTAMP:20260420T041446
CREATED:20241017T184935Z
LAST-MODIFIED:20241017T184935Z
UID:59907-1730741400-1730748600@grrotary.org
SUMMARY:11.4.24 - Community Food Club - Volunteer Opportunity
DESCRIPTION:Date: Monday\, November 4th \nTime: 5:30 – 7:30 pm \nLocation: 1100 South Division Ave.\, Grand Rapids\, MI 49507 \nVolunteers: 6 needed\n      Rotary Family Members and Friends are Welcome! \nSIGN UP: https://www.signupgenius.com/go/10C0B4EA8A823A0FD0-52470884-community \nDetails: We will pack fruits and veggies and stock the shelves. Light refreshments and drinks will be provided. (Some beer and wine and NA options) \nContact: Jon Roberts & Andrea Nucci 
URL:https://grrotary.org/event/11-4-24-community-food-club-volunteer-opportunity/
LOCATION:Community Food Club\, 1100 Division Ave S\, Grand Rapids\, MI\, 49507\, United States
ATTACH;FMTTYPE=image/png:https://grrotary.org/wp-content/uploads/2024/10/communityfoodclub.png
END:VEVENT
BEGIN:VEVENT
DTSTART;TZID=America/Detroit:20241107T163000
DTEND;TZID=America/Detroit:20241107T180000
DTSTAMP:20260420T041446
CREATED:20241018T163345Z
LAST-MODIFIED:20241018T163345Z
UID:59921-1730997000-1731002400@grrotary.org
SUMMARY:11.7.24 - CLUB 77 - Warner Norcross + Judd LLP
DESCRIPTION:Join us for our monthly Club 77 at Warner Norcross + Judd LLP in the heart of downtown Grand Rapids! \nAppetizers & adult beverages will be served. \nYou are encouraged to invite guests to attend! \nParking Instructions: \nParking is available in the Warner Building lot for a fee or street parking is available. \nThe entrance to the parking lot is located on Ionia Ave (between Pearl St NW and Lyon St NE) \nOnce you enter the building attendees can take the elevator to floor 15R after parking \n 
URL:https://grrotary.org/event/11-7-24-club-77-warner-norcross-judd-llp/
LOCATION:Warner Norcross + Judd LLC\, 150 Ottawa Ave NW\, Grand Rapids\, MI\, 49503\, United States
CATEGORIES:Weekly Meeting
ATTACH;FMTTYPE=image/png:https://grrotary.org/wp-content/uploads/2024/10/wnjlogo.png
END:VEVENT
BEGIN:VEVENT
DTSTART;TZID=America/Detroit:20241112T170000
DTEND;TZID=America/Detroit:20241112T183000
DTSTAMP:20260420T041446
CREATED:20241017T185600Z
LAST-MODIFIED:20241017T185600Z
UID:59913-1731430800-1731436200@grrotary.org
SUMMARY:11.12.24 - Dégagé Ministries Dinner Service - Volunteer Opportunity
DESCRIPTION:Date: Tuesday\, November 12 \n \nTime: 5:00 – 6:30 pm \nLocation: 144 Division Ave S. Grand Rapids\, MI 49503 \nVolunteers: 6 needed\n      Rotary Family Members and Friends are Welcome! \nSIGN UP: https://www.signupgenius.com/go/10C0B4EA8A823A0FD0-52471652-dgag \nDetails: Serving dinner to Degage Guests! It is a wonderful time of service\, teamwork\, fellowship\, and conversation
URL:https://grrotary.org/event/11-12-24-degage-ministries-dinner-service-volunteer-opportunity/
LOCATION:Degage Ministries\, 139 Sheldon Ave SE\, Grand Rapids\, MI\, 49503
ATTACH;FMTTYPE=image/png:https://grrotary.org/wp-content/uploads/2022/11/degage.logo_.png
END:VEVENT
BEGIN:VEVENT
DTSTART;TZID=America/Detroit:20241114T120000
DTEND;TZID=America/Detroit:20241114T131500
DTSTAMP:20260420T041446
CREATED:20241018T164358Z
LAST-MODIFIED:20241018T164358Z
UID:59927-1731585600-1731590100@grrotary.org
SUMMARY:11.14.24 - Tarah Carnahan - Executive Director & Co-Founder\, Treetops Collective
DESCRIPTION:Speaker: Tarah Carnahan – Executive Director & Co-Founder\, Treetops Collective \nSpeaker Topic: Treetops Collective and its mission to respond to refugees displaced by war\, famine\, or persecution \nBio: \nTarah received her Bachelor of Arts in Sociology and Business from Lee University in 2008. Upon graduation\, she settled in Asuncion\, Paraguay where she started a small social enterprise with 17 women living and working in the city garbage dump.  After moving to Grand Rapids\, Tarah worked in several non-profits developing community programs and building marketing and fundraising campaigns.  She also entered the stationery and gifts industry\, creating products and doing sales and marketing. To fuse her two loves of community work and conscious brand production\, she went on to complete a master’s in Sustainable Business from Aquinas College. In her personal life\, Tarah has befriended local refugee families\, walking alongside them through the resettlement process and connecting them with people and opportunities in Grand Rapids. \n \n 
URL:https://grrotary.org/event/11-14-24-tarah-carnahan-executive-director-co-founder-treetops-collective/
LOCATION:Kent Country Club\, 1600 College Ave NE\, Grand Rapids\, 49505
CATEGORIES:Weekly Meeting
ATTACH;FMTTYPE=image/jpeg:https://grrotary.org/wp-content/uploads/2024/10/carnahan1.jpg
END:VEVENT
BEGIN:VEVENT
DTSTART;TZID=America/Detroit:20241119T170000
DTEND;TZID=America/Detroit:20241119T190000
DTSTAMP:20260420T041446
CREATED:20241018T171203Z
LAST-MODIFIED:20241108T211303Z
UID:59937-1732035600-1732042800@grrotary.org
SUMMARY:11.19.24 - Rotary Golf Affinity Group - Mini Golf Event
DESCRIPTION:Date: Tuesday\, November 19\n \nTime: 5:00 – 7:00 pm  \nLocation: Big Mini Putt Club – 70 Ionia Ave SW Grand Rapids\, Mi 49503 \nSIGN UP: No RSVP’s for this event \n 
URL:https://grrotary.org/event/11-18-24-family-promise-dinner-prep-volunteer-opportunity/
LOCATION:Big Mini Putt Club\, 70 Ionia Ave SW\, Grand Rapids\, 49503\, United States
ATTACH;FMTTYPE=image/jpeg:https://grrotary.org/wp-content/uploads/2024/10/golf-rotary.jpg
END:VEVENT
BEGIN:VEVENT
DTSTART;TZID=America/Detroit:20241121T120000
DTEND;TZID=America/Detroit:20241121T131500
DTSTAMP:20260420T041446
CREATED:20241018T165542Z
LAST-MODIFIED:20241018T165542Z
UID:59931-1732190400-1732194900@grrotary.org
SUMMARY:11.21.24 - J.C. Huizenga - Owner\, Huizenga Group
DESCRIPTION:Speaker: J.C Huizenga – Owner\, Huizenga Group \nBio: \nJ.C.’s entrepreneurial penchant appears to run in the family. His grandfather emigrated from the Netherlands in 1893. By 1971\, the family had created the world’s largest trash collection and disposal company\, Waste Management\, Inc. \nAfter studying economics at Hope college and earning his MBA at Michigan State University\, J.C. continued to grow his manufacturing enterprises which range from commercial electrical contracting to supplying automobile instrumentation components. \nTranslating his desire to reform education into action\, in 1995 J.C. founded National Heritage Academies (NHA) which achieved four consecutive years on Inc. magazine’s list of the “500 Fastest Growing Private Companies.” \nJ.C. gives generously of his time and resources to a wide variety of organizations within West Michigan and around the world.
URL:https://grrotary.org/event/11-21-24-j-c-huizenga-owner-huizenga-group/
LOCATION:Kent Country Club\, 1600 College Ave NE\, Grand Rapids\, 49505
CATEGORIES:Weekly Meeting
ATTACH;FMTTYPE=image/jpeg:https://grrotary.org/wp-content/uploads/2024/10/J.C._Huizenga-photo.jpg
END:VEVENT
BEGIN:VEVENT
DTSTART;TZID=America/Detroit:20241127T130000
DTEND;TZID=America/Detroit:20241127T150000
DTSTAMP:20260420T041446
CREATED:20241017T190143Z
LAST-MODIFIED:20241017T190143Z
UID:59916-1732712400-1732719600@grrotary.org
SUMMARY:11.27.24 - Feeding America West Michigan - Volunteer Opportunity
DESCRIPTION:Date: Wednesday\, November 27 \n \nTime: 1:00 – 3:00 pm \nLocation: 864 West River Center Drive NE\, Comstock Park\, MI 49321 \nVolunteers: 20 needed\n      Rotary Family Members and Friends are Welcome! \nSIGN UP:     https://www.signupgenius.com/go/10C0B4EA8A823A0FD0-51881402-feeding\n \nDetails: The CE Committee is partnering with our STRIVE students and mentors for their volunteer days with Feeding America West Michigan and Kids Food Basket.  Both of these venues can handle more volunteers than just our STRIVE students and mentors.
URL:https://grrotary.org/event/11-27-24-feeding-america-west-michigan-volunteer-opportunity/
LOCATION:Feeding America West Michigan\, 3070 Shaffer Ave SE\, Kentwood\, Michigan\, 49512
ATTACH;FMTTYPE=image/png:https://grrotary.org/wp-content/uploads/2024/10/feedingamerica.png
GEO:43.0485168;-85.6502007
X-APPLE-STRUCTURED-LOCATION;VALUE=URI;X-ADDRESS=Feeding America West Michigan 3070 Shaffer Ave SE Kentwood Michigan 49512;X-APPLE-RADIUS=500;X-TITLE=3070 Shaffer Ave SE:geo:-85.6502007,43.0485168
END:VEVENT
BEGIN:VEVENT
DTSTART;VALUE=DATE:20241128
DTEND;VALUE=DATE:20241129
DTSTAMP:20260420T041446
CREATED:20241018T165819Z
LAST-MODIFIED:20241018T170109Z
UID:59935-1732752000-1732838399@grrotary.org
SUMMARY:11.28.24 - NO LUNCHEON - Thanksgiving Holiday Observance
DESCRIPTION:There will be no luncheon on Thursday\, November 28th in observance of Thanksgiving.
URL:https://grrotary.org/event/11-28-24-no-luncheon-thanksgiving-holiday-observance/
LOCATION:MI
CATEGORIES:Weekly Meeting
ATTACH;FMTTYPE=image/jpeg:https://grrotary.org/wp-content/uploads/2022/08/thanksgiving.jpg
END:VEVENT
END:VCALENDAR