BEGIN:VCALENDAR
VERSION:2.0
PRODID:-//Rotary Club Of Grand Rapids - ECPv6.15.20//NONSGML v1.0//EN
CALSCALE:GREGORIAN
METHOD:PUBLISH
X-ORIGINAL-URL:https://grrotary.org
X-WR-CALDESC:Events for Rotary Club Of Grand Rapids
REFRESH-INTERVAL;VALUE=DURATION:PT1H
X-Robots-Tag:noindex
X-PUBLISHED-TTL:PT1H
BEGIN:VTIMEZONE
TZID:UTC
BEGIN:STANDARD
TZOFFSETFROM:+0000
TZOFFSETTO:+0000
TZNAME:UTC
DTSTART:20220101T000000
END:STANDARD
END:VTIMEZONE
BEGIN:VEVENT
DTSTART;TZID=UTC:20230216T120000
DTEND;TZID=UTC:20230216T131500
DTSTAMP:20260423T043654
CREATED:20220927T203012Z
LAST-MODIFIED:20230126T195121Z
UID:58968-1676548800-1676553300@grrotary.org
SUMMARY:2.16.23 - SAS'y Community Engagement Luncheon
DESCRIPTION:SAS’y Community Engagement Luncheon \nInfo to be provided \n 
URL:https://grrotary.org/event/2-16-22-service-above-selfie-event/
LOCATION:University Club of Grand Rapids\, 111 Lyon St NW Suite 1025\, Grand Rapids\, MI\, 49503\, United States
CATEGORIES:Weekly Meeting
END:VEVENT
END:VCALENDAR