BEGIN:VCALENDAR
VERSION:2.0
PRODID:-//Rotary Club Of Grand Rapids - ECPv6.15.20//NONSGML v1.0//EN
CALSCALE:GREGORIAN
METHOD:PUBLISH
X-ORIGINAL-URL:https://grrotary.org
X-WR-CALDESC:Events for Rotary Club Of Grand Rapids
REFRESH-INTERVAL;VALUE=DURATION:PT1H
X-Robots-Tag:noindex
X-PUBLISHED-TTL:PT1H
BEGIN:VTIMEZONE
TZID:America/Detroit
BEGIN:DAYLIGHT
TZOFFSETFROM:-0500
TZOFFSETTO:-0400
TZNAME:EDT
DTSTART:20230312T070000
END:DAYLIGHT
BEGIN:STANDARD
TZOFFSETFROM:-0400
TZOFFSETTO:-0500
TZNAME:EST
DTSTART:20231105T060000
END:STANDARD
BEGIN:DAYLIGHT
TZOFFSETFROM:-0500
TZOFFSETTO:-0400
TZNAME:EDT
DTSTART:20240310T070000
END:DAYLIGHT
BEGIN:STANDARD
TZOFFSETFROM:-0400
TZOFFSETTO:-0500
TZNAME:EST
DTSTART:20241103T060000
END:STANDARD
BEGIN:DAYLIGHT
TZOFFSETFROM:-0500
TZOFFSETTO:-0400
TZNAME:EDT
DTSTART:20250309T070000
END:DAYLIGHT
BEGIN:STANDARD
TZOFFSETFROM:-0400
TZOFFSETTO:-0500
TZNAME:EST
DTSTART:20251102T060000
END:STANDARD
END:VTIMEZONE
BEGIN:VEVENT
DTSTART;TZID=America/Detroit:20241127T130000
DTEND;TZID=America/Detroit:20241127T150000
DTSTAMP:20260420T054118
CREATED:20241017T190143Z
LAST-MODIFIED:20241017T190143Z
UID:59916-1732712400-1732719600@grrotary.org
SUMMARY:11.27.24 - Feeding America West Michigan - Volunteer Opportunity
DESCRIPTION:Date: Wednesday\, November 27 \n \nTime: 1:00 – 3:00 pm \nLocation: 864 West River Center Drive NE\, Comstock Park\, MI 49321 \nVolunteers: 20 needed\n      Rotary Family Members and Friends are Welcome! \nSIGN UP:     https://www.signupgenius.com/go/10C0B4EA8A823A0FD0-51881402-feeding\n \nDetails: The CE Committee is partnering with our STRIVE students and mentors for their volunteer days with Feeding America West Michigan and Kids Food Basket.  Both of these venues can handle more volunteers than just our STRIVE students and mentors.
URL:https://grrotary.org/event/11-27-24-feeding-america-west-michigan-volunteer-opportunity/
LOCATION:Feeding America West Michigan\, 3070 Shaffer Ave SE\, Kentwood\, Michigan\, 49512
ATTACH;FMTTYPE=image/png:https://grrotary.org/wp-content/uploads/2024/10/feedingamerica.png
GEO:43.0485168;-85.6502007
X-APPLE-STRUCTURED-LOCATION;VALUE=URI;X-ADDRESS=Feeding America West Michigan 3070 Shaffer Ave SE Kentwood Michigan 49512;X-APPLE-RADIUS=500;X-TITLE=3070 Shaffer Ave SE:geo:-85.6502007,43.0485168
END:VEVENT
END:VCALENDAR