BEGIN:VCALENDAR
VERSION:2.0
PRODID:-//Rotary Club Of Grand Rapids - ECPv6.15.20//NONSGML v1.0//EN
CALSCALE:GREGORIAN
METHOD:PUBLISH
X-ORIGINAL-URL:https://grrotary.org
X-WR-CALDESC:Events for Rotary Club Of Grand Rapids
REFRESH-INTERVAL;VALUE=DURATION:PT1H
X-Robots-Tag:noindex
X-PUBLISHED-TTL:PT1H
BEGIN:VTIMEZONE
TZID:UTC
BEGIN:STANDARD
TZOFFSETFROM:+0000
TZOFFSETTO:+0000
TZNAME:UTC
DTSTART:20230101T000000
END:STANDARD
END:VTIMEZONE
BEGIN:VEVENT
DTSTART;TZID=UTC:20240716T093000
DTEND;TZID=UTC:20240716T103000
DTSTAMP:20260420T041535
CREATED:20240710T002522Z
LAST-MODIFIED:20240710T002522Z
UID:59737-1721122200-1721125800@grrotary.org
SUMMARY:7.16.24 - Annual PPTK Summer Reading Program with GRPS - Volunteer Opportunity
DESCRIPTION:Our Community Engagement Committee is pleased to provide the following volunteer opportunity for Rotarians to read books to children for the annual PPTK Summer Reading Program with GRPS (collaborating with The Rotary Club of Grand Rapids and the Grand Rapids Children’s Museum)! \nDate: Thursday\, July 16th \nTime: 9:30 -10:30 AM \nLocation: Gerald R. Ford Academic Center – 851 Madison Ave SE\, Grand Rapids\, MI 49507 \nSign-Up: https://www.signupgenius.com/go/70A0C49A5A62FA5FF2-49976459-pptk#/ \nDetails: 8 Volunteers needed to read books to children
URL:https://grrotary.org/event/7-16-24-annual-pptk-summer-reading-program-with-grps-volunteer-opportunity/
LOCATION:Gerald R. Ford Academic Center\, 851 Madison Ave SE\, Grand Rapids\, MI\, 49507\, United States
ATTACH;FMTTYPE=image/jpeg:https://grrotary.org/wp-content/uploads/2024/07/rotary-volunteer.jpg
END:VEVENT
END:VCALENDAR