BEGIN:VCALENDAR
VERSION:2.0
PRODID:-//Rotary Club Of Grand Rapids - ECPv6.15.20//NONSGML v1.0//EN
CALSCALE:GREGORIAN
METHOD:PUBLISH
X-ORIGINAL-URL:https://grrotary.org
X-WR-CALDESC:Events for Rotary Club Of Grand Rapids
REFRESH-INTERVAL;VALUE=DURATION:PT1H
X-Robots-Tag:noindex
X-PUBLISHED-TTL:PT1H
BEGIN:VTIMEZONE
TZID:UTC
BEGIN:STANDARD
TZOFFSETFROM:+0000
TZOFFSETTO:+0000
TZNAME:UTC
DTSTART:20230101T000000
END:STANDARD
END:VTIMEZONE
BEGIN:VEVENT
DTSTART;TZID=UTC:20240413T090000
DTEND;TZID=UTC:20240413T120000
DTSTAMP:20260422T074303
CREATED:20240227T213030Z
LAST-MODIFIED:20240227T213042Z
UID:59576-1712998800-1713009600@grrotary.org
SUMMARY:4.13.24 - Indian Trails Camp: Spring Clean Up - Volunteer Opportunity
DESCRIPTION:Our Community Engagement Committee is pleased to provide the following volunteer opportunity for our Rotarians and friends to clean\, fix and paint at our long-time community partner Indian Trails Camp as they prep for another year of service to the community! \nSignup Here: https://www.signupgenius.com/go/10C0B4EA8A823A0FD0-48152601-indian \nContact: Katharina Häusler-Gross and Ted Vecchio \nDate: Saturday\, April 13th @ 9:00 am – 12:00 pm (lunch to follow) \nLocation: O-1859 Lake Michigan Drive NW\, Grand Rapids\, MI 49534 \nDetails: \n\n20 + volunteers needed\nIndian Trails Camp has been a long-time community partner and is also an essential organization to our club. This is a great opportunity to work alongside our STRIVE students and lead by example to show them what it means to be an active member of Rotary and how Service Above Self can impact the community.
URL:https://grrotary.org/event/4-13-24-indian-trails-camp-spring-clean-up-volunteer-opportunity/
LOCATION:Indian Trails Camp\, 0-1859 Lake Michigan Drive\, Grand Rapids\, MI\, 49534\, United States
ATTACH;FMTTYPE=image/jpeg:https://grrotary.org/wp-content/uploads/2021/05/Indian-Trails-Camp.jpg
GEO:42.972604;-85.8016265
X-APPLE-STRUCTURED-LOCATION;VALUE=URI;X-ADDRESS=Indian Trails Camp 0-1859 Lake Michigan Drive Grand Rapids MI 49534 United States;X-APPLE-RADIUS=500;X-TITLE=0-1859 Lake Michigan Drive:geo:-85.8016265,42.972604
END:VEVENT
END:VCALENDAR